BEGIN:VCALENDAR
VERSION:2.0
CALSCALE:GREGORIAN
PRODID:UnionActive
BEGIN:VEVENT
UID:7030071@ibew2.org
SUMMARY:CPR/First Aid Class
DESCRIPTION:Contact: St Louis office (314) 645-2236 \nLink for more information: http://ibew2.org/index.cfm?zone=/unionactive/view_calendar.cfm&calendarID=7030071&thisdate=02/06/2014&useCalSection=main
LOCATION:IBEW #2 Training Center
1075 N Service Rd W
St Clair, MO 63077
URL:http://ibew2.org/index.cfm?zone=/unionactive/view_calendar.cfm&calendarID=7030071&thisdate=02/06/2014&useCalSection=main
DTSTART:20140206T230000Z
DTEND:20140207T000000Z
DTSTAMP:20240229T144224
TRIGGER:-PT60M
END:VEVENT
END:VCALENDAR
