BEGIN:VCALENDAR
VERSION:2.0
CALSCALE:GREGORIAN
PRODID:UnionActive
BEGIN:VEVENT
UID:6642820@ibew2.org
SUMMARY:First Aid/CPR certification
DESCRIPTION:Contact: Contact Local 2 to register for this class - 314-645-2236 \nLink for more information: http://ibew2.org/index.cfm?zone=/unionactive/view_calendar.cfm&calendarID=6642820&thisdate=09/21/2013&useCalSection=main
LOCATION:IBEW #2 Training Center
1075 N Service Rd W
St Clair, MO 63077
URL:http://ibew2.org/index.cfm?zone=/unionactive/view_calendar.cfm&calendarID=6642820&thisdate=09/21/2013&useCalSection=main
DTSTART:20130921T150000Z
DTEND:20130921T160000Z
DTSTAMP:20240229T144503
TRIGGER:-PT60M
END:VEVENT
END:VCALENDAR
