BEGIN:VCALENDAR
VERSION:2.0
CALSCALE:GREGORIAN
PRODID:UnionActive
BEGIN:VEVENT
UID:6452912@ibew2.org
SUMMARY:Troy Unit Meeting
DESCRIPTION:Contact:  \nLink for more information: http://ibew2.org/index.cfm?zone=/unionactive/view_calendar.cfm&calendarID=6452912&thisdate=12/18/2013&useCalSection=main
LOCATION:Lincoln County Fairgrounds
URL:http://ibew2.org/index.cfm?zone=/unionactive/view_calendar.cfm&calendarID=6452912&thisdate=12/18/2013&useCalSection=main
DTSTART:20131218T230000Z
DTEND:20131219T000000Z
DTSTAMP:20240229T144500
TRIGGER:-PT60M
END:VEVENT
END:VCALENDAR
