BEGIN:VCALENDAR
VERSION:2.0
CALSCALE:GREGORIAN
PRODID:UnionActive
BEGIN:VEVENT
UID:6452911@ibew2.org
SUMMARY:Troy Unit Meeting
DESCRIPTION:Contact:  \nLink for more information: http://ibew2.org/index.cfm?zone=/unionactive/view_calendar.cfm&calendarID=6452911&thisdate=10/16/2013&useCalSection=main
LOCATION:Lincoln County Fairgrounds
URL:http://ibew2.org/index.cfm?zone=/unionactive/view_calendar.cfm&calendarID=6452911&thisdate=10/16/2013&useCalSection=main
DTSTART:20131016T220000Z
DTEND:20131016T230000Z
DTSTAMP:20240229T144427
TRIGGER:-PT60M
END:VEVENT
END:VCALENDAR
