BEGIN:VCALENDAR
VERSION:2.0
CALSCALE:GREGORIAN
PRODID:UnionActive
BEGIN:VEVENT
UID:6452910@ibew2.org
SUMMARY:Troy Unit Meeting
DESCRIPTION:Contact:  \nLink for more information: http://ibew2.org/index.cfm?zone=/unionactive/view_calendar.cfm&calendarID=6452910&thisdate=08/21/2013&useCalSection=main
LOCATION:Lincoln County Fairgrounds
URL:http://ibew2.org/index.cfm?zone=/unionactive/view_calendar.cfm&calendarID=6452910&thisdate=08/21/2013&useCalSection=main
DTSTART:20130821T220000Z
DTEND:20130821T230000Z
DTSTAMP:20240229T144501
TRIGGER:-PT60M
END:VEVENT
END:VCALENDAR
