BEGIN:VCALENDAR
VERSION:2.0
CALSCALE:GREGORIAN
PRODID:UnionActive
BEGIN:VEVENT
UID:6452906@ibew2.org
SUMMARY:Tipton Unit Meeting
DESCRIPTION:Contact:  \nLink for more information: http://ibew2.org/index.cfm?zone=/unionactive/view_calendar.cfm&calendarID=6452906&thisdate=10/01/2013&useCalSection=main
LOCATION:Morgan County Library
URL:http://ibew2.org/index.cfm?zone=/unionactive/view_calendar.cfm&calendarID=6452906&thisdate=10/01/2013&useCalSection=main
DTSTART:20131001T213000Z
DTEND:20131001T223000Z
DTSTAMP:20240229T144502
TRIGGER:-PT60M
END:VEVENT
END:VCALENDAR
