BEGIN:VCALENDAR
VERSION:2.0
CALSCALE:GREGORIAN
PRODID:UnionActive
BEGIN:VEVENT
UID:6452904@ibew2.org
SUMMARY:St Louis Tree Trimmers Meeting
DESCRIPTION:Contact:  \nLink for more information: http://ibew2.org/index.cfm?zone=/unionactive/view_calendar.cfm&calendarID=6452904&thisdate=12/09/2013&useCalSection=main
LOCATION:St Louis Union Hall
URL:http://ibew2.org/index.cfm?zone=/unionactive/view_calendar.cfm&calendarID=6452904&thisdate=12/09/2013&useCalSection=main
DTSTART:20131209T223000Z
DTEND:20131209T233000Z
DTSTAMP:20240229T144425
TRIGGER:-PT60M
END:VEVENT
END:VCALENDAR
