BEGIN:VCALENDAR
VERSION:2.0
CALSCALE:GREGORIAN
PRODID:UnionActive
BEGIN:VEVENT
UID:6452879@ibew2.org
SUMMARY:Linn Unit Meeting
DESCRIPTION:Contact:  \nLink for more information: http://ibew2.org/index.cfm?zone=/unionactive/view_calendar.cfm&calendarID=6452879&thisdate=08/01/2013&useCalSection=main
LOCATION:cooperative headquarters
URL:http://ibew2.org/index.cfm?zone=/unionactive/view_calendar.cfm&calendarID=6452879&thisdate=08/01/2013&useCalSection=main
DTSTART:20130801T203000Z
DTEND:20130801T213000Z
DTSTAMP:20240229T144432
TRIGGER:-PT60M
END:VEVENT
END:VCALENDAR
