BEGIN:VCALENDAR
VERSION:2.0
CALSCALE:GREGORIAN
PRODID:UnionActive
BEGIN:VEVENT
UID:6452877@ibew2.org
SUMMARY:Lewistown Unit Meeting
DESCRIPTION:Contact:  \nLink for more information: http://ibew2.org/index.cfm?zone=/unionactive/view_calendar.cfm&calendarID=6452877&thisdate=10/09/2013&useCalSection=main
LOCATION:
URL:http://ibew2.org/index.cfm?zone=/unionactive/view_calendar.cfm&calendarID=6452877&thisdate=10/09/2013&useCalSection=main
DTSTART:20131009T213000Z
DTEND:20131009T223000Z
DTSTAMP:20240229T144424
TRIGGER:-PT60M
END:VEVENT
END:VCALENDAR
