BEGIN:VCALENDAR
VERSION:2.0
CALSCALE:GREGORIAN
PRODID:UnionActive
BEGIN:VEVENT
UID:6452876@ibew2.org
SUMMARY:Lewistown Unit Meeting
DESCRIPTION:Contact:  \nLink for more information: http://ibew2.org/index.cfm?zone=/unionactive/view_calendar.cfm&calendarID=6452876&thisdate=08/14/2013&useCalSection=main
LOCATION:
URL:http://ibew2.org/index.cfm?zone=/unionactive/view_calendar.cfm&calendarID=6452876&thisdate=08/14/2013&useCalSection=main
DTSTART:20130814T213000Z
DTEND:20130814T223000Z
DTSTAMP:20240229T144458
TRIGGER:-PT60M
END:VEVENT
END:VCALENDAR
