BEGIN:VCALENDAR
VERSION:2.0
CALSCALE:GREGORIAN
PRODID:UnionActive
BEGIN:VEVENT
UID:6452871@ibew2.org
SUMMARY:Kirksville Unit Meeting
DESCRIPTION:Contact:  \nLink for more information: http://ibew2.org/index.cfm?zone=/unionactive/view_calendar.cfm&calendarID=6452871&thisdate=09/12/2013&useCalSection=main
LOCATION:company headquarters
URL:http://ibew2.org/index.cfm?zone=/unionactive/view_calendar.cfm&calendarID=6452871&thisdate=09/12/2013&useCalSection=main
DTSTART:20130912T213000Z
DTEND:20130912T223000Z
DTSTAMP:20240229T144429
TRIGGER:-PT60M
END:VEVENT
END:VCALENDAR
