BEGIN:VCALENDAR
VERSION:2.0
CALSCALE:GREGORIAN
PRODID:UnionActive
BEGIN:VEVENT
UID:6452870@ibew2.org
SUMMARY:Kirksville Unit Meeting
DESCRIPTION:Contact:  \nLink for more information: http://ibew2.org/index.cfm?zone=/unionactive/view_calendar.cfm&calendarID=6452870&thisdate=07/11/2013&useCalSection=main
LOCATION:Company headquarters
URL:http://ibew2.org/index.cfm?zone=/unionactive/view_calendar.cfm&calendarID=6452870&thisdate=07/11/2013&useCalSection=main
DTSTART:20130711T213000Z
DTEND:20130711T223000Z
DTSTAMP:20240229T144500
TRIGGER:-PT60M
END:VEVENT
END:VCALENDAR
