BEGIN:VCALENDAR
VERSION:2.0
CALSCALE:GREGORIAN
PRODID:UnionActive
BEGIN:VEVENT
UID:6452869@ibew2.org
SUMMARY:Jefferson City Unit Meeting-CenturyLink
DESCRIPTION:Contact:  \nLink for more information: http://ibew2.org/index.cfm?zone=/unionactive/view_calendar.cfm&calendarID=6452869&thisdate=12/26/2013&useCalSection=main
LOCATION:Labor Temple
209 Flora Drive
Jefferson City, MO
URL:http://ibew2.org/index.cfm?zone=/unionactive/view_calendar.cfm&calendarID=6452869&thisdate=12/26/2013&useCalSection=main
DTSTART:20131226T233000Z
DTEND:20131227T003000Z
DTSTAMP:20240229T144427
TRIGGER:-PT60M
END:VEVENT
END:VCALENDAR
