BEGIN:VCALENDAR
VERSION:2.0
CALSCALE:GREGORIAN
PRODID:UnionActive
BEGIN:VEVENT
UID:6452864@ibew2.org
SUMMARY:Jefferson City Unit Meeting
DESCRIPTION:Contact:  \nLink for more information: http://ibew2.org/index.cfm?zone=/unionactive/view_calendar.cfm&calendarID=6452864&thisdate=09/26/2013&useCalSection=main
LOCATION:Labor Temple
209 Flora Drive
Jefferson City, MO
URL:http://ibew2.org/index.cfm?zone=/unionactive/view_calendar.cfm&calendarID=6452864&thisdate=09/26/2013&useCalSection=main
DTSTART:20130926T220000Z
DTEND:20130926T230000Z
DTSTAMP:20240229T144424
TRIGGER:-PT60M
END:VEVENT
END:VCALENDAR
