BEGIN:VCALENDAR
VERSION:2.0
CALSCALE:GREGORIAN
PRODID:UnionActive
BEGIN:VEVENT
UID:6452849@ibew2.org
SUMMARY:Excelsior Springs Unit Meeting
DESCRIPTION:Contact:  \nLink for more information: http://ibew2.org/index.cfm?zone=/unionactive/view_calendar.cfm&calendarID=6452849&thisdate=11/06/2013&useCalSection=main
LOCATION:work headquarters
URL:http://ibew2.org/index.cfm?zone=/unionactive/view_calendar.cfm&calendarID=6452849&thisdate=11/06/2013&useCalSection=main
DTSTART:20131106T220000Z
DTEND:20131106T230000Z
DTSTAMP:20240229T144428
TRIGGER:-PT60M
END:VEVENT
END:VCALENDAR
