BEGIN:VCALENDAR
VERSION:2.0
CALSCALE:GREGORIAN
PRODID:UnionActive
BEGIN:VEVENT
UID:6452846@ibew2.org
SUMMARY:Cuivre River Unit Meeting
DESCRIPTION:Contact:  \nLink for more information: http://ibew2.org/index.cfm?zone=/unionactive/view_calendar.cfm&calendarID=6452846&thisdate=10/08/2013&useCalSection=main
LOCATION:Lake St Louis office
URL:http://ibew2.org/index.cfm?zone=/unionactive/view_calendar.cfm&calendarID=6452846&thisdate=10/08/2013&useCalSection=main
DTSTART:20131008T210000Z
DTEND:20131008T220000Z
DTSTAMP:20240229T144421
TRIGGER:-PT60M
END:VEVENT
END:VCALENDAR
