BEGIN:VCALENDAR
VERSION:2.0
CALSCALE:GREGORIAN
PRODID:UnionActive
BEGIN:VEVENT
UID:6452844@ibew2.org
SUMMARY:Columbia unit meeting
DESCRIPTION:Contact:  \nLink for more information: http://ibew2.org/index.cfm?zone=/unionactive/view_calendar.cfm&calendarID=6452844&thisdate=11/26/2013&useCalSection=main
LOCATION:Carpenters Local 1925
URL:http://ibew2.org/index.cfm?zone=/unionactive/view_calendar.cfm&calendarID=6452844&thisdate=11/26/2013&useCalSection=main
DTSTART:20131127T003000Z
DTEND:20131127T013000Z
DTSTAMP:20240229T144430
TRIGGER:-PT60M
END:VEVENT
END:VCALENDAR
