BEGIN:VCALENDAR
VERSION:2.0
CALSCALE:GREGORIAN
PRODID:UnionActive
BEGIN:VEVENT
UID:6452843@ibew2.org
SUMMARY:Columbia unit meeting @ Boonville
DESCRIPTION:Contact:  \nLink for more information: http://ibew2.org/index.cfm?zone=/unionactive/view_calendar.cfm&calendarID=6452843&thisdate=09/24/2013&useCalSection=main
LOCATION:Odd Fellows Lodge
URL:http://ibew2.org/index.cfm?zone=/unionactive/view_calendar.cfm&calendarID=6452843&thisdate=09/24/2013&useCalSection=main
DTSTART:20130924T233000Z
DTEND:20130925T003000Z
DTSTAMP:20240229T144421
TRIGGER:-PT60M
END:VEVENT
END:VCALENDAR
