BEGIN:VCALENDAR
VERSION:2.0
CALSCALE:GREGORIAN
PRODID:UnionActive
BEGIN:VEVENT
UID:6452842@ibew2.org
SUMMARY:Columbia unit meeting @ Moberly
DESCRIPTION:Contact:  \nLink for more information: http://ibew2.org/index.cfm?zone=/unionactive/view_calendar.cfm&calendarID=6452842&thisdate=07/23/2013&useCalSection=main
LOCATION:Best Western
URL:http://ibew2.org/index.cfm?zone=/unionactive/view_calendar.cfm&calendarID=6452842&thisdate=07/23/2013&useCalSection=main
DTSTART:20130723T233000Z
DTEND:20130724T003000Z
DTSTAMP:20240229T144424
TRIGGER:-PT60M
END:VEVENT
END:VCALENDAR
