BEGIN:VCALENDAR
VERSION:2.0
CALSCALE:GREGORIAN
PRODID:UnionActive
BEGIN:VEVENT
UID:6452841@ibew2.org
SUMMARY:Chillicothe Unit Meeting
DESCRIPTION:Contact:  \nLink for more information: http://ibew2.org/index.cfm?zone=/unionactive/view_calendar.cfm&calendarID=6452841&thisdate=11/21/2013&useCalSection=main
LOCATION:Royal Inn Pizza
URL:http://ibew2.org/index.cfm?zone=/unionactive/view_calendar.cfm&calendarID=6452841&thisdate=11/21/2013&useCalSection=main
DTSTART:20131122T003000Z
DTEND:20131122T013000Z
DTSTAMP:20240229T144419
TRIGGER:-PT60M
END:VEVENT
END:VCALENDAR
