BEGIN:VCALENDAR
VERSION:2.0
CALSCALE:GREGORIAN
PRODID:UnionActive
BEGIN:VEVENT
UID:6452840@ibew2.org
SUMMARY:Chillicothe Unit Meeting
DESCRIPTION:Contact:  \nLink for more information: http://ibew2.org/index.cfm?zone=/unionactive/view_calendar.cfm&calendarID=6452840&thisdate=09/19/2013&useCalSection=main
LOCATION:Royal Inn Pizza
URL:http://ibew2.org/index.cfm?zone=/unionactive/view_calendar.cfm&calendarID=6452840&thisdate=09/19/2013&useCalSection=main
DTSTART:20130919T233000Z
DTEND:20130920T003000Z
DTSTAMP:20240229T144426
TRIGGER:-PT60M
END:VEVENT
END:VCALENDAR
