BEGIN:VCALENDAR
VERSION:2.0
CALSCALE:GREGORIAN
PRODID:UnionActive
BEGIN:VEVENT
UID:6452836@ibew2.org
SUMMARY:Bourbon Unit Meeting
DESCRIPTION:Contact:  \nLink for more information: http://ibew2.org/index.cfm?zone=/unionactive/view_calendar.cfm&calendarID=6452836&thisdate=08/20/2013&useCalSection=main
LOCATION:Cooperative Headquarters
URL:http://ibew2.org/index.cfm?zone=/unionactive/view_calendar.cfm&calendarID=6452836&thisdate=08/20/2013&useCalSection=main
DTSTART:20130820T213000Z
DTEND:20130820T223000Z
DTSTAMP:20240229T144431
TRIGGER:-PT60M
END:VEVENT
END:VCALENDAR
