BEGIN:VCALENDAR
VERSION:2.0
CALSCALE:GREGORIAN
PRODID:UnionActive
BEGIN:VEVENT
UID:6452834@ibew2.org
SUMMARY:Tipton Unit Meeting
DESCRIPTION:Contact:  \nLink for more information: http://ibew2.org/index.cfm?zone=/unionactive/view_calendar.cfm&calendarID=6452834&thisdate=06/04/2013&useCalSection=main
LOCATION:
URL:http://ibew2.org/index.cfm?zone=/unionactive/view_calendar.cfm&calendarID=6452834&thisdate=06/04/2013&useCalSection=main
DTSTART:20130604T213000Z
DTEND:20130604T223000Z
DTSTAMP:20240229T144504
TRIGGER:-PT60M
END:VEVENT
END:VCALENDAR
