BEGIN:VCALENDAR
VERSION:2.0
CALSCALE:GREGORIAN
PRODID:UnionActive
BEGIN:VEVENT
UID:6452829@ibew2.org
SUMMARY:Mexico Unit Meeting - Consolidated Physical Group
DESCRIPTION:Contact:  \nLink for more information: http://ibew2.org/index.cfm?zone=/unionactive/view_calendar.cfm&calendarID=6452829&thisdate=06/11/2013&useCalSection=main
LOCATION:Cooperative Headquarters
URL:http://ibew2.org/index.cfm?zone=/unionactive/view_calendar.cfm&calendarID=6452829&thisdate=06/11/2013&useCalSection=main
DTSTART:20130611T203000Z
DTEND:20130611T213000Z
DTSTAMP:20240229T144422
TRIGGER:-PT60M
END:VEVENT
END:VCALENDAR
