BEGIN:VCALENDAR
VERSION:2.0
CALSCALE:GREGORIAN
PRODID:UnionActive
BEGIN:VEVENT
UID:6364237@ibew2.org
SUMMARY:OSHA-10 Class
DESCRIPTION:Contact: Amy at St Louis office 314-645-2236 \nLink for more information: http://ibew2.org/index.cfm?zone=/unionactive/view_calendar.cfm&calendarID=6364237&thisdate=05/17/2013&useCalSection=main
LOCATION:IBEW Local #2 Training Center
1075 N Service Road W
St Clair, MO 63077
URL:http://ibew2.org/index.cfm?zone=/unionactive/view_calendar.cfm&calendarID=6364237&thisdate=05/17/2013&useCalSection=main
DTSTART:20130517T130000Z
DTEND:20130518T140000Z
DTSTAMP:20240229T144420
TRIGGER:-PT60M
END:VEVENT
END:VCALENDAR
