BEGIN:VCALENDAR
VERSION:2.0
CALSCALE:GREGORIAN
PRODID:UnionActive
BEGIN:VEVENT
UID:6063413@ibew2.org
SUMMARY:Tipton Unit Meeting
DESCRIPTION:Contact:  \nLink for more information: http://ibew2.org/index.cfm?zone=/unionactive/view_calendar.cfm&calendarID=6063413&thisdate=02/05/2013&useCalSection=main
LOCATION:Morgan County Library
600 North Hunter
Versailles, MO
URL:http://ibew2.org/index.cfm?zone=/unionactive/view_calendar.cfm&calendarID=6063413&thisdate=02/05/2013&useCalSection=main
DTSTART:20130205T223000Z
DTEND:20130205T233000Z
DTSTAMP:20240229T144458
TRIGGER:-PT60M
END:VEVENT
END:VCALENDAR
