BEGIN:VCALENDAR
VERSION:2.0
CALSCALE:GREGORIAN
PRODID:UnionActive
BEGIN:VEVENT
UID:6063412@ibew2.org
SUMMARY:St Louis Tree Trimmers Meeting
DESCRIPTION:Contact:  \nLink for more information: http://ibew2.org/index.cfm?zone=/unionactive/view_calendar.cfm&calendarID=6063412&thisdate=02/11/2013&useCalSection=main
LOCATION:IBEW Local 2
2131 59th Street
St Louis, MO
URL:http://ibew2.org/index.cfm?zone=/unionactive/view_calendar.cfm&calendarID=6063412&thisdate=02/11/2013&useCalSection=main
DTSTART:20130211T223000Z
DTEND:20130211T233000Z
DTSTAMP:20240229T144459
TRIGGER:-PT60M
END:VEVENT
END:VCALENDAR
