BEGIN:VCALENDAR
VERSION:2.0
CALSCALE:GREGORIAN
PRODID:UnionActive
BEGIN:VEVENT
UID:6063404@ibew2.org
SUMMARY:Jefferson City Unit Meeting
DESCRIPTION:Contact:  \nLink for more information: http://ibew2.org/index.cfm?zone=/unionactive/view_calendar.cfm&calendarID=6063404&thisdate=02/28/2013&useCalSection=main
LOCATION:Labor Temple
209 Flora Drive
Jefferson City, MO
URL:http://ibew2.org/index.cfm?zone=/unionactive/view_calendar.cfm&calendarID=6063404&thisdate=02/28/2013&useCalSection=main
DTSTART:20130228T233000Z
DTEND:20130301T003000Z
DTSTAMP:20240229T144422
TRIGGER:-PT60M
END:VEVENT
END:VCALENDAR
