BEGIN:VCALENDAR
VERSION:2.0
CALSCALE:GREGORIAN
PRODID:UnionActive
BEGIN:VEVENT
UID:6063403@ibew2.org
SUMMARY:Hannibal Unit Meeting
DESCRIPTION:Contact:  \nLink for more information: http://ibew2.org/index.cfm?zone=/unionactive/view_calendar.cfm&calendarID=6063403&thisdate=02/21/2013&useCalSection=main
LOCATION:IBEW Local 350
801 Church Street
Hannibal, MO
URL:http://ibew2.org/index.cfm?zone=/unionactive/view_calendar.cfm&calendarID=6063403&thisdate=02/21/2013&useCalSection=main
DTSTART:20130221T220000Z
DTEND:20130221T230000Z
DTSTAMP:20240229T144424
TRIGGER:-PT60M
END:VEVENT
END:VCALENDAR
