BEGIN:VCALENDAR
VERSION:2.0
CALSCALE:GREGORIAN
PRODID:UnionActive
BEGIN:VEVENT
UID:6063387@ibew2.org
SUMMARY:Macon Unit Meeting
DESCRIPTION:Contact:  \nLink for more information: http://ibew2.org/index.cfm?zone=/unionactive/view_calendar.cfm&calendarID=6063387&thisdate=01/15/2013&useCalSection=main
LOCATION:Cooperative Headquarters
Business Hwy 36 East
Macon, MO
URL:http://ibew2.org/index.cfm?zone=/unionactive/view_calendar.cfm&calendarID=6063387&thisdate=01/15/2013&useCalSection=main
DTSTART:20130115T223000Z
DTEND:20130115T233000Z
DTSTAMP:20240229T144423
TRIGGER:-PT60M
END:VEVENT
END:VCALENDAR
