BEGIN:VCALENDAR
VERSION:2.0
CALSCALE:GREGORIAN
PRODID:UnionActive
BEGIN:VEVENT
UID:6063384@ibew2.org
SUMMARY:Kirksville Unit Meeting
DESCRIPTION:Contact:  \nLink for more information: http://ibew2.org/index.cfm?zone=/unionactive/view_calendar.cfm&calendarID=6063384&thisdate=01/10/2013&useCalSection=main
LOCATION:Company Headquarters
204 W Cottonwood
Kirksville, MO
URL:http://ibew2.org/index.cfm?zone=/unionactive/view_calendar.cfm&calendarID=6063384&thisdate=01/10/2013&useCalSection=main
DTSTART:20130110T223000Z
DTEND:20130110T233000Z
DTSTAMP:20240229T144457
TRIGGER:-PT60M
END:VEVENT
END:VCALENDAR
