BEGIN:VCALENDAR
VERSION:2.0
CALSCALE:GREGORIAN
PRODID:UnionActive
BEGIN:VEVENT
UID:6063372@ibew2.org
SUMMARY:Moberly unit meeting
DESCRIPTION:Contact:  \nLink for more information: http://ibew2.org/index.cfm?zone=/unionactive/view_calendar.cfm&calendarID=6063372&thisdate=01/22/2013&useCalSection=main
LOCATION:Best Western 
Intersection of Hwy 24 & Hwy 63
Moberly, MO
URL:http://ibew2.org/index.cfm?zone=/unionactive/view_calendar.cfm&calendarID=6063372&thisdate=01/22/2013&useCalSection=main
DTSTART:20130123T003000Z
DTEND:20130123T013000Z
DTSTAMP:20240229T144420
TRIGGER:-PT60M
END:VEVENT
END:VCALENDAR
