BEGIN:VCALENDAR
VERSION:2.0
CALSCALE:GREGORIAN
PRODID:UnionActive
BEGIN:VEVENT
UID:5719918@ibew2.org
SUMMARY:1439 Hog Roast
DESCRIPTION:Contact: Call 1439 at 314-644-6111 to let them know you are coming, or if you have any questions. \nLink for more information: http://ibew2.org/index.cfm?zone=/unionactive/view_calendar.cfm&calendarID=5719918&thisdate=10/06/2012&useCalSection=main
LOCATION:IBEW Local 1439
2121 59th Street
St Louis, MO 63110
URL:http://ibew2.org/index.cfm?zone=/unionactive/view_calendar.cfm&calendarID=5719918&thisdate=10/06/2012&useCalSection=main
DTSTART:20121006T180000Z
DTEND:20121006T220000Z
DTSTAMP:20240229T144715
TRIGGER:-PT60M
END:VEVENT
END:VCALENDAR
