BEGIN:VCALENDAR
VERSION:2.0
CALSCALE:GREGORIAN
PRODID:UnionActive
BEGIN:VEVENT
UID:5538108@ibew2.org
SUMMARY:Troy Unit Meeting
DESCRIPTION:Contact:  \nLink for more information: http://ibew2.org/index.cfm?zone=/unionactive/view_calendar.cfm&calendarID=5538108&thisdate=12/19/2012&useCalSection=main
LOCATION:Knights of Columbus,
2061 Grothe Road,
Flint Hill, MO
URL:http://ibew2.org/index.cfm?zone=/unionactive/view_calendar.cfm&calendarID=5538108&thisdate=12/19/2012&useCalSection=main
DTSTART:20121219T233000Z
DTEND:20121220T003000Z
DTSTAMP:20240229T144714
TRIGGER:-PT60M
END:VEVENT
END:VCALENDAR
