BEGIN:VCALENDAR
VERSION:2.0
CALSCALE:GREGORIAN
PRODID:UnionActive
BEGIN:VEVENT
UID:5538107@ibew2.org
SUMMARY:Troy Unit Meeting
DESCRIPTION:Contact:  \nLink for more information: http://ibew2.org/index.cfm?zone=/unionactive/view_calendar.cfm&calendarID=5538107&thisdate=10/17/2012&useCalSection=main
LOCATION:Knights of Columbus,
2061 Grothe Road,
Flint Hill, MO

URL:http://ibew2.org/index.cfm?zone=/unionactive/view_calendar.cfm&calendarID=5538107&thisdate=10/17/2012&useCalSection=main
DTSTART:20121017T223000Z
DTEND:20121017T233000Z
DTSTAMP:20240229T144709
TRIGGER:-PT60M
END:VEVENT
END:VCALENDAR
