BEGIN:VCALENDAR
VERSION:2.0
CALSCALE:GREGORIAN
PRODID:UnionActive
BEGIN:VEVENT
UID:5538105@ibew2.org
SUMMARY:Tipton Unit Meeting
DESCRIPTION:Contact:  \nLink for more information: http://ibew2.org/index.cfm?zone=/unionactive/view_calendar.cfm&calendarID=5538105&thisdate=12/04/2012&useCalSection=main
LOCATION:Morgan County Library,
Versailles, MO
URL:http://ibew2.org/index.cfm?zone=/unionactive/view_calendar.cfm&calendarID=5538105&thisdate=12/04/2012&useCalSection=main
DTSTART:20121204T223000Z
DTEND:20121204T233000Z
DTSTAMP:20240229T144717
TRIGGER:-PT60M
END:VEVENT
END:VCALENDAR
