BEGIN:VCALENDAR
VERSION:2.0
CALSCALE:GREGORIAN
PRODID:UnionActive
BEGIN:VEVENT
UID:5538103@ibew2.org
SUMMARY:Tipton Unit Meeting
DESCRIPTION:Contact:  \nLink for more information: http://ibew2.org/index.cfm?zone=/unionactive/view_calendar.cfm&calendarID=5538103&thisdate=08/07/2012&useCalSection=main
LOCATION:Morgan County Library,
Versailles, MO
URL:http://ibew2.org/index.cfm?zone=/unionactive/view_calendar.cfm&calendarID=5538103&thisdate=08/07/2012&useCalSection=main
DTSTART:20120807T213000Z
DTEND:20120807T223000Z
DTSTAMP:20240229T144731
TRIGGER:-PT60M
END:VEVENT
END:VCALENDAR
