BEGIN:VCALENDAR
VERSION:2.0
CALSCALE:GREGORIAN
PRODID:UnionActive
BEGIN:VEVENT
UID:5538101@ibew2.org
SUMMARY:St Louis - Tree Trimmers
DESCRIPTION:Contact:  \nLink for more information: http://ibew2.org/index.cfm?zone=/unionactive/view_calendar.cfm&calendarID=5538101&thisdate=10/08/2012&useCalSection=main
LOCATION:IBEW Local 2 - Main Union Hall,
2131 59th Street,
St Louis, MO
URL:http://ibew2.org/index.cfm?zone=/unionactive/view_calendar.cfm&calendarID=5538101&thisdate=10/08/2012&useCalSection=main
DTSTART:20121008T213000Z
DTEND:20121008T223000Z
DTSTAMP:20240229T144710
TRIGGER:-PT60M
END:VEVENT
END:VCALENDAR
