BEGIN:VCALENDAR
VERSION:2.0
CALSCALE:GREGORIAN
PRODID:UnionActive
BEGIN:VEVENT
UID:5538098@ibew2.org
SUMMARY:St Clair - Tree Trimmers
DESCRIPTION:Contact:  \nLink for more information: http://ibew2.org/index.cfm?zone=/unionactive/view_calendar.cfm&calendarID=5538098&thisdate=11/21/2012&useCalSection=main
LOCATION:IBEW Local #2 Training Center,
1075 N Service Rd W,
St Clair, MO
URL:http://ibew2.org/index.cfm?zone=/unionactive/view_calendar.cfm&calendarID=5538098&thisdate=11/21/2012&useCalSection=main
DTSTART:20121121T233000Z
DTEND:20121122T003000Z
DTSTAMP:20240229T144729
TRIGGER:-PT60M
END:VEVENT
END:VCALENDAR
