BEGIN:VCALENDAR
VERSION:2.0
CALSCALE:GREGORIAN
PRODID:UnionActive
BEGIN:VEVENT
UID:5538083@ibew2.org
SUMMARY:Macon Unit Meeting
DESCRIPTION:Contact:  \nLink for more information: http://ibew2.org/index.cfm?zone=/unionactive/view_calendar.cfm&calendarID=5538083&thisdate=11/20/2012&useCalSection=main
LOCATION:Cooperative Headquarters, 
Business Hwy 36 East,
Macon, MO

URL:http://ibew2.org/index.cfm?zone=/unionactive/view_calendar.cfm&calendarID=5538083&thisdate=11/20/2012&useCalSection=main
DTSTART:20121120T223000Z
DTEND:20121120T233000Z
DTSTAMP:20240229T144712
TRIGGER:-PT60M
END:VEVENT
END:VCALENDAR
