BEGIN:VCALENDAR
VERSION:2.0
CALSCALE:GREGORIAN
PRODID:UnionActive
BEGIN:VEVENT
UID:5538081@ibew2.org
SUMMARY:Macon Unit Meeting
DESCRIPTION:Contact:  \nLink for more information: http://ibew2.org/index.cfm?zone=/unionactive/view_calendar.cfm&calendarID=5538081&thisdate=07/17/2012&useCalSection=main
LOCATION:Cooperative Headquarters, 
Business Hwy 36 East, 
Macon, MO

URL:http://ibew2.org/index.cfm?zone=/unionactive/view_calendar.cfm&calendarID=5538081&thisdate=07/17/2012&useCalSection=main
DTSTART:20120717T213000Z
DTEND:20120717T223000Z
DTSTAMP:20240229T144710
TRIGGER:-PT60M
END:VEVENT
END:VCALENDAR
