BEGIN:VCALENDAR
VERSION:2.0
CALSCALE:GREGORIAN
PRODID:UnionActive
BEGIN:VEVENT
UID:5538079@ibew2.org
SUMMARY:Linn Unit Meeting
DESCRIPTION:Contact:  \nLink for more information: http://ibew2.org/index.cfm?zone=/unionactive/view_calendar.cfm&calendarID=5538079&thisdate=10/04/2012&useCalSection=main
LOCATION:Cooperative Headquarters, 
1324 East Main, 
Linn, MO
URL:http://ibew2.org/index.cfm?zone=/unionactive/view_calendar.cfm&calendarID=5538079&thisdate=10/04/2012&useCalSection=main
DTSTART:20121004T213000Z
DTEND:20121004T223000Z
DTSTAMP:20240229T144710
TRIGGER:-PT60M
END:VEVENT
END:VCALENDAR
