BEGIN:VCALENDAR
VERSION:2.0
CALSCALE:GREGORIAN
PRODID:UnionActive
BEGIN:VEVENT
UID:5538063@ibew2.org
SUMMARY:Jefferson City - Ameren/Central
DESCRIPTION:Contact:  \nLink for more information: http://ibew2.org/index.cfm?zone=/unionactive/view_calendar.cfm&calendarID=5538063&thisdate=09/27/2012&useCalSection=main
LOCATION:Labor Temple
209 Flora Drive
Jefferson City, MO
URL:http://ibew2.org/index.cfm?zone=/unionactive/view_calendar.cfm&calendarID=5538063&thisdate=09/27/2012&useCalSection=main
DTSTART:20120927T220000Z
DTEND:20120927T230000Z
DTSTAMP:20240229T144708
TRIGGER:-PT60M
END:VEVENT
END:VCALENDAR
