BEGIN:VCALENDAR
VERSION:2.0
CALSCALE:GREGORIAN
PRODID:UnionActive
BEGIN:VEVENT
UID:5537979@ibew2.org
SUMMARY:Hannibal Unit Meeting
DESCRIPTION:Contact:  \nLink for more information: http://ibew2.org/index.cfm?zone=/unionactive/view_calendar.cfm&calendarID=5537979&thisdate=12/20/2012&useCalSection=main
LOCATION:IBEW Local 350
801 Church Street
Hannibal, MO
URL:http://ibew2.org/index.cfm?zone=/unionactive/view_calendar.cfm&calendarID=5537979&thisdate=12/20/2012&useCalSection=main
DTSTART:20121220T220000Z
DTEND:20121220T230000Z
DTSTAMP:20240229T144731
TRIGGER:-PT60M
END:VEVENT
END:VCALENDAR
