BEGIN:VCALENDAR
VERSION:2.0
CALSCALE:GREGORIAN
PRODID:UnionActive
BEGIN:VEVENT
UID:5537975@ibew2.org
SUMMARY:Hannibal Unit Meeting
DESCRIPTION:Contact:  \nLink for more information: http://ibew2.org/index.cfm?zone=/unionactive/view_calendar.cfm&calendarID=5537975&thisdate=08/23/2012&useCalSection=main
LOCATION:IBEW Local 350
801 Church Street
Hannibal, MO 63401
URL:http://ibew2.org/index.cfm?zone=/unionactive/view_calendar.cfm&calendarID=5537975&thisdate=08/23/2012&useCalSection=main
DTSTART:20120823T210000Z
DTEND:20120823T220000Z
DTSTAMP:20240229T144727
TRIGGER:-PT60M
END:VEVENT
END:VCALENDAR
