BEGIN:VCALENDAR
VERSION:2.0
CALSCALE:GREGORIAN
PRODID:UnionActive
BEGIN:VEVENT
UID:5537973@ibew2.org
SUMMARY:Fulton Unit Meeting
DESCRIPTION:Contact:  \nLink for more information: http://ibew2.org/index.cfm?zone=/unionactive/view_calendar.cfm&calendarID=5537973&thisdate=11/19/2012&useCalSection=main
LOCATION:Cooperative Headquarters
503 Truman Road
Fulton, MO
URL:http://ibew2.org/index.cfm?zone=/unionactive/view_calendar.cfm&calendarID=5537973&thisdate=11/19/2012&useCalSection=main
DTSTART:20121119T220000Z
DTEND:20121119T230000Z
DTSTAMP:20240229T144718
TRIGGER:-PT60M
END:VEVENT
END:VCALENDAR
