BEGIN:VCALENDAR
VERSION:2.0
CALSCALE:GREGORIAN
PRODID:UnionActive
BEGIN:VEVENT
UID:5537972@ibew2.org
SUMMARY:Fulton Unit Meeting
DESCRIPTION:Contact:  \nLink for more information: http://ibew2.org/index.cfm?zone=/unionactive/view_calendar.cfm&calendarID=5537972&thisdate=09/19/2012&useCalSection=main
LOCATION:Cooperative Headquarters
503 Truman Road
Fulton, MO
URL:http://ibew2.org/index.cfm?zone=/unionactive/view_calendar.cfm&calendarID=5537972&thisdate=09/19/2012&useCalSection=main
DTSTART:20120919T210000Z
DTEND:20120919T220000Z
DTSTAMP:20240229T144730
TRIGGER:-PT60M
END:VEVENT
END:VCALENDAR
