BEGIN:VCALENDAR
VERSION:2.0
CALSCALE:GREGORIAN
PRODID:UnionActive
BEGIN:VEVENT
UID:5537965@ibew2.org
SUMMARY:Excelsior Springs Unit Meeting
DESCRIPTION:Contact:  \nLink for more information: http://ibew2.org/index.cfm?zone=/unionactive/view_calendar.cfm&calendarID=5537965&thisdate=09/05/2012&useCalSection=main
LOCATION:Work Headquarters
Excelsior Springs, MO
URL:http://ibew2.org/index.cfm?zone=/unionactive/view_calendar.cfm&calendarID=5537965&thisdate=09/05/2012&useCalSection=main
DTSTART:20120905T210000Z
DTEND:20120905T220000Z
DTSTAMP:20240229T144729
TRIGGER:-PT60M
END:VEVENT
END:VCALENDAR
