BEGIN:VCALENDAR
VERSION:2.0
CALSCALE:GREGORIAN
PRODID:UnionActive
BEGIN:VEVENT
UID:5537962@ibew2.org
SUMMARY:Columbia Unit Meeting
DESCRIPTION:Contact:  \nLink for more information: http://ibew2.org/index.cfm?zone=/unionactive/view_calendar.cfm&calendarID=5537962&thisdate=11/27/2012&useCalSection=main
LOCATION:Carpenters Local #1925
404 Tiger Lane
Columbia, MO
URL:http://ibew2.org/index.cfm?zone=/unionactive/view_calendar.cfm&calendarID=5537962&thisdate=11/27/2012&useCalSection=main
DTSTART:20121128T003000Z
DTEND:20121128T013000Z
DTSTAMP:20240229T144713
TRIGGER:-PT60M
END:VEVENT
END:VCALENDAR
