BEGIN:VCALENDAR
VERSION:2.0
CALSCALE:GREGORIAN
PRODID:UnionActive
BEGIN:VEVENT
UID:5537961@ibew2.org
SUMMARY:Columbia Unit Meeting
DESCRIPTION:Contact:  \nLink for more information: http://ibew2.org/index.cfm?zone=/unionactive/view_calendar.cfm&calendarID=5537961&thisdate=09/25/2012&useCalSection=main
LOCATION:Odd Fellows
517 Main
Boonville, MO
URL:http://ibew2.org/index.cfm?zone=/unionactive/view_calendar.cfm&calendarID=5537961&thisdate=09/25/2012&useCalSection=main
DTSTART:20120925T233000Z
DTEND:20120926T003000Z
DTSTAMP:20240229T144714
TRIGGER:-PT60M
END:VEVENT
END:VCALENDAR
